BEGIN:VCALENDAR
VERSION:2.0
PRODID:-//GUILDFORD STATION BUP - ECPv6.15.12.2//NONSGML v1.0//EN
CALSCALE:GREGORIAN
METHOD:PUBLISH
X-WR-CALNAME:GUILDFORD STATION BUP
X-ORIGINAL-URL:https://guildfordstationpub.com
X-WR-CALDESC:Events for GUILDFORD STATION BUP
REFRESH-INTERVAL;VALUE=DURATION:PT1H
X-Robots-Tag:noindex
X-PUBLISHED-TTL:PT1H
BEGIN:VTIMEZONE
TZID:UTC
BEGIN:STANDARD
TZOFFSETFROM:+0000
TZOFFSETTO:+0000
TZNAME:UTC
DTSTART:20250101T000000
END:STANDARD
END:VTIMEZONE
BEGIN:VEVENT
DTSTART;VALUE=DATE:20260910
DTEND;VALUE=DATE:20261011
DTSTAMP:20260420T210335
CREATED:20190729T114748Z
LAST-MODIFIED:20260304T215229Z
UID:423-1788998400-1791676799@guildfordstationpub.com
SUMMARY:Watch
DESCRIPTION:
URL:https://guildfordstationpub.com/event/watch-2/
LOCATION:Pub\, Charlottesville\, VA 123456 United States\, Charlottesville\, United States
CATEGORIES:sport
ORGANIZER;CN="Pub":MAILTO:pubzinne@example.com
END:VEVENT
END:VCALENDAR